BEGIN:VCALENDAR
VERSION:2.0
PRODID:-//Helensburgh and Lomond Civic Centre - ECPv6.15.20//NONSGML v1.0//EN
CALSCALE:GREGORIAN
METHOD:PUBLISH
X-WR-CALNAME:Helensburgh and Lomond Civic Centre
X-ORIGINAL-URL:https://www.argyll-bute.gov.uk/hlcc
X-WR-CALDESC:Events for Helensburgh and Lomond Civic Centre
REFRESH-INTERVAL;VALUE=DURATION:PT1H
X-Robots-Tag:noindex
X-PUBLISHED-TTL:PT1H
BEGIN:VTIMEZONE
TZID:Europe/London
BEGIN:DAYLIGHT
TZOFFSETFROM:+0000
TZOFFSETTO:+0100
TZNAME:BST
DTSTART:20240331T010000
END:DAYLIGHT
BEGIN:STANDARD
TZOFFSETFROM:+0100
TZOFFSETTO:+0000
TZNAME:GMT
DTSTART:20241027T010000
END:STANDARD
BEGIN:DAYLIGHT
TZOFFSETFROM:+0000
TZOFFSETTO:+0100
TZNAME:BST
DTSTART:20250330T010000
END:DAYLIGHT
BEGIN:STANDARD
TZOFFSETFROM:+0100
TZOFFSETTO:+0000
TZNAME:GMT
DTSTART:20251026T010000
END:STANDARD
BEGIN:DAYLIGHT
TZOFFSETFROM:+0000
TZOFFSETTO:+0100
TZNAME:BST
DTSTART:20260329T010000
END:DAYLIGHT
BEGIN:STANDARD
TZOFFSETFROM:+0100
TZOFFSETTO:+0000
TZNAME:GMT
DTSTART:20261025T010000
END:STANDARD
END:VTIMEZONE
BEGIN:VEVENT
DTSTART;TZID=Europe/London:20250620T184500
DTEND;TZID=Europe/London:20250620T203000
DTSTAMP:20260425T025332
CREATED:20250422T091638Z
LAST-MODIFIED:20250422T091947Z
UID:903-1750445100-1750451400@www.argyll-bute.gov.uk
SUMMARY:Midsummer Rest: Restorative Yoga Workshop
DESCRIPTION:Avoid burning out by resting into the light with us as we reach the summer solstice.\nSpace for you to relax\, restore and connect. End your week mindfully with yoga teacher Kerry McKay and connect with a lovely group. Gentle movement to relax the body then softening in Restorative yoga poses followed by a Yoga Nidra guided relaxation meditation. We will be in floor-based supported poses with a focus on awareness and breath. At this time of peak light\, we are called to contain the expansion\, rest back into ourselves and connect with our inner fire. \nLocation: Templeton Annex\, Helensburgh Civic Centre
URL:https://www.argyll-bute.gov.uk/hlcc/event/midsummer-rest-restorative-yoga-workshop/
LOCATION:Helensburgh Civic Centre
ATTACH;FMTTYPE=image/png:https://www.argyll-bute.gov.uk/hlcc/wp-content/uploads/2025/04/yoga-workshop.png
END:VEVENT
END:VCALENDAR