BEGIN:VCALENDAR
VERSION:2.0
PRODID:-//Helensburgh and Lomond Civic Centre - ECPv6.15.20//NONSGML v1.0//EN
CALSCALE:GREGORIAN
METHOD:PUBLISH
X-ORIGINAL-URL:https://www.argyll-bute.gov.uk/hlcc
X-WR-CALDESC:Events for Helensburgh and Lomond Civic Centre
REFRESH-INTERVAL;VALUE=DURATION:PT1H
X-Robots-Tag:noindex
X-PUBLISHED-TTL:PT1H
BEGIN:VTIMEZONE
TZID:Europe/London
BEGIN:DAYLIGHT
TZOFFSETFROM:+0000
TZOFFSETTO:+0100
TZNAME:BST
DTSTART:20240331T010000
END:DAYLIGHT
BEGIN:STANDARD
TZOFFSETFROM:+0100
TZOFFSETTO:+0000
TZNAME:GMT
DTSTART:20241027T010000
END:STANDARD
BEGIN:DAYLIGHT
TZOFFSETFROM:+0000
TZOFFSETTO:+0100
TZNAME:BST
DTSTART:20250330T010000
END:DAYLIGHT
BEGIN:STANDARD
TZOFFSETFROM:+0100
TZOFFSETTO:+0000
TZNAME:GMT
DTSTART:20251026T010000
END:STANDARD
BEGIN:DAYLIGHT
TZOFFSETFROM:+0000
TZOFFSETTO:+0100
TZNAME:BST
DTSTART:20260329T010000
END:DAYLIGHT
BEGIN:STANDARD
TZOFFSETFROM:+0100
TZOFFSETTO:+0000
TZNAME:GMT
DTSTART:20261025T010000
END:STANDARD
END:VTIMEZONE
BEGIN:VEVENT
DTSTART;TZID=Europe/London:20250503T183000
DTEND;TZID=Europe/London:20250504T000000
DTSTAMP:20260425T041703
CREATED:20250310T160954Z
LAST-MODIFIED:20250310T160954Z
UID:894-1746297000-1746316800@www.argyll-bute.gov.uk
SUMMARY:Rave On The Clyde
DESCRIPTION:RAVE ON THE CLYDE \nGet ready for an unforgettable night of music\, energy and pure vibes! \nThis electrifying event is bringing the best of techno\, house and dance music to the Clyde’s waterfront venue the Helensburgh and Lomond Civic Centre. \nHeadlined by Stephen Kirkwood\, one of Scotland’s most exciting DJs and producers\, you’re in for an unforgettable night of high-energy techno\, house and trance. \nSpecial guest Michael Paterson\, our very own Helensburgh legend. \nSupporting artists: The Lang Bros and JMCCAFF. \nStreet food available out front of the venue so come down early to get some drinks and snacks before the event kicks off at 7:30pm. \nSound supplied by Blue Audio. \nIndoor standing event\, 18+ \nSecure your tickets now and be part of the best rave of the year!
URL:https://www.argyll-bute.gov.uk/hlcc/event/rave-on-the-clyde/
LOCATION:Helensburgh Civic Centre
ATTACH;FMTTYPE=image/jpeg:https://www.argyll-bute.gov.uk/hlcc/wp-content/uploads/2025/03/481769535_673031545073075_7621822197995704492_n.jpg
END:VEVENT
BEGIN:VEVENT
DTSTART;TZID=Europe/London:20250511T140000
DTEND;TZID=Europe/London:20250511T163000
DTSTAMP:20260425T041703
CREATED:20250310T150945Z
LAST-MODIFIED:20250422T085638Z
UID:885-1746972000-1746981000@www.argyll-bute.gov.uk
SUMMARY:Bountiful Fire: Beltane Yoga Workshop + Soundbath
DESCRIPTION:Welcoming abundance\, passion and fertility as summer begins. Warm\, energise and expand with yoga. Then rest deeply with a Yoga Nidra guided relaxation followed by a multi-instrument Soundbath with our brilliant gong-maestro Sandy Graham. Tea\, sharing and circle time to nourish our connections. \n\nYoga with Kerry\nA guided Yoga Nidra relaxation\nSound bath with Sandy Graham\nFinishing with tea and connection\n\nLocation: MARRIAGE SUITE\, Helensburgh Civic Centre
URL:https://www.argyll-bute.gov.uk/hlcc/event/bountiful-fire-beltane-yoga-workshop-soundbath/
LOCATION:Helensburgh Civic Centre
ATTACH;FMTTYPE=image/png:https://www.argyll-bute.gov.uk/hlcc/wp-content/uploads/2025/03/fire.png
END:VEVENT
BEGIN:VEVENT
DTSTART;TZID=Europe/London:20250516T080000
DTEND;TZID=Europe/London:20250517T230000
DTSTAMP:20260425T041703
CREATED:20250310T160055Z
LAST-MODIFIED:20250310T160055Z
UID:891-1747382400-1747522800@www.argyll-bute.gov.uk
SUMMARY:Helensburgh Beer & Gin Festival
DESCRIPTION:Dive into the heart of this community festival\, brought to you by local charity Helensburgh Heart. The festival kicks of on Friday the 16th of May from 5pm-11pm and Saturday the 17th of May from 1pm-11pm\, offering a feast for the senses and the soul.  \nWhat’s On Offer: \nLive Music\nPerformers to be announced soon \nBeer Bar \nOver 35 varieties of cask ale\, craft lager\, and lager \nCider Tent\nMore than 20 varieties of cider \nGin Bar\nClassic gin and tonics\, cocktails\, Prosecco\, and a range of cocktails \nRum Bar\nSelection of rum cocktails \nWhisky Bar\nSelection of whiskies and whisky cocktails \nAlcohol-Free Bar\nNon-alcoholic beers\, fun alcohol-free cocktails\, alcohol-free sparkling\, and water. \nFood Court\nFood vendors to be announced.
URL:https://www.argyll-bute.gov.uk/hlcc/event/helensburgh-beer-gin-festival/
LOCATION:Helensburgh Civic Centre
ATTACH;FMTTYPE=image/webp:https://www.argyll-bute.gov.uk/hlcc/wp-content/uploads/2025/03/2c4365_13948f85b9ae46f4bd9c4d25e5fa140cmv2.webp
END:VEVENT
END:VCALENDAR