BEGIN:VCALENDAR
VERSION:2.0
PRODID:-//Helensburgh and Lomond Civic Centre - ECPv6.15.20//NONSGML v1.0//EN
CALSCALE:GREGORIAN
METHOD:PUBLISH
X-WR-CALNAME:Helensburgh and Lomond Civic Centre
X-ORIGINAL-URL:https://www.argyll-bute.gov.uk/hlcc
X-WR-CALDESC:Events for Helensburgh and Lomond Civic Centre
REFRESH-INTERVAL;VALUE=DURATION:PT1H
X-Robots-Tag:noindex
X-PUBLISHED-TTL:PT1H
BEGIN:VTIMEZONE
TZID:Europe/London
BEGIN:DAYLIGHT
TZOFFSETFROM:+0000
TZOFFSETTO:+0100
TZNAME:BST
DTSTART:20240331T010000
END:DAYLIGHT
BEGIN:STANDARD
TZOFFSETFROM:+0100
TZOFFSETTO:+0000
TZNAME:GMT
DTSTART:20241027T010000
END:STANDARD
BEGIN:DAYLIGHT
TZOFFSETFROM:+0000
TZOFFSETTO:+0100
TZNAME:BST
DTSTART:20250330T010000
END:DAYLIGHT
BEGIN:STANDARD
TZOFFSETFROM:+0100
TZOFFSETTO:+0000
TZNAME:GMT
DTSTART:20251026T010000
END:STANDARD
BEGIN:DAYLIGHT
TZOFFSETFROM:+0000
TZOFFSETTO:+0100
TZNAME:BST
DTSTART:20260329T010000
END:DAYLIGHT
BEGIN:STANDARD
TZOFFSETFROM:+0100
TZOFFSETTO:+0000
TZNAME:GMT
DTSTART:20261025T010000
END:STANDARD
END:VTIMEZONE
BEGIN:VEVENT
DTSTART;TZID=Europe/London:20251212T190000
DTEND;TZID=Europe/London:20251212T235900
DTSTAMP:20260424T194717
CREATED:20250811T090807Z
LAST-MODIFIED:20250811T090807Z
UID:918-1765566000-1765583940@www.argyll-bute.gov.uk
SUMMARY:Christmas Party Night
DESCRIPTION:Get ready for an unforgettable evening of festive fun at the Helensburgh and Lomond Civic Centre! Join fellow local businesses and community groups for a night filled with delicious food\, sparkling drinks\, lively dancing\, and plenty of Christmas magic. \nYour ticket includes: \n\nA mince pie and welcome drink on arrival (Prosecco or Orange Juice)\nA festive 3-course Christmas buffet\nMusic all night from our party DJ\nFestive photo backdrop for your group pictures\n\nDress to impress in your most Christmassy outfit\, bring your best dance moves\, and prepare for a night to remember! \nImportant: \n\nIf you have allergies or dietary requirements\, please email HLCCEvents@argyll-bute.gov.uk so we can cater for your needs.\nIf members of your group are booking tickets separately\, let us know by email so we can seat you together.
URL:https://www.argyll-bute.gov.uk/hlcc/event/christmas-party-night-3/
LOCATION:Helensburgh Civic Centre
ATTACH;FMTTYPE=image/png:https://www.argyll-bute.gov.uk/hlcc/wp-content/uploads/2025/08/FRIDAY-12-December.png
END:VEVENT
END:VCALENDAR