BEGIN:VCALENDAR
VERSION:2.0
PRODID:-//Helensburgh and Lomond Civic Centre - ECPv6.15.20//NONSGML v1.0//EN
CALSCALE:GREGORIAN
METHOD:PUBLISH
X-WR-CALNAME:Helensburgh and Lomond Civic Centre
X-ORIGINAL-URL:https://www.argyll-bute.gov.uk/hlcc
X-WR-CALDESC:Events for Helensburgh and Lomond Civic Centre
REFRESH-INTERVAL;VALUE=DURATION:PT1H
X-Robots-Tag:noindex
X-PUBLISHED-TTL:PT1H
BEGIN:VTIMEZONE
TZID:Europe/London
BEGIN:DAYLIGHT
TZOFFSETFROM:+0000
TZOFFSETTO:+0100
TZNAME:BST
DTSTART:20240331T010000
END:DAYLIGHT
BEGIN:STANDARD
TZOFFSETFROM:+0100
TZOFFSETTO:+0000
TZNAME:GMT
DTSTART:20241027T010000
END:STANDARD
BEGIN:DAYLIGHT
TZOFFSETFROM:+0000
TZOFFSETTO:+0100
TZNAME:BST
DTSTART:20250330T010000
END:DAYLIGHT
BEGIN:STANDARD
TZOFFSETFROM:+0100
TZOFFSETTO:+0000
TZNAME:GMT
DTSTART:20251026T010000
END:STANDARD
BEGIN:DAYLIGHT
TZOFFSETFROM:+0000
TZOFFSETTO:+0100
TZNAME:BST
DTSTART:20260329T010000
END:DAYLIGHT
BEGIN:STANDARD
TZOFFSETFROM:+0100
TZOFFSETTO:+0000
TZNAME:GMT
DTSTART:20261025T010000
END:STANDARD
END:VTIMEZONE
BEGIN:VEVENT
DTSTART;TZID=Europe/London:20250912T203000
DTEND;TZID=Europe/London:20250912T230000
DTSTAMP:20260424T235256
CREATED:20250116T114811Z
LAST-MODIFIED:20250116T115447Z
UID:807-1757709000-1757718000@www.argyll-bute.gov.uk
SUMMARY:Karen Dunbar
DESCRIPTION:CHEWIN’ THE FAT STAR KAREN DUNBAR IS BACK WITH HER BRAND NEW 2025 SCOTTISH TOUR! \nKaren Dunbar is one of Scotland’s best-known comedy actors. Starting off in the sketch show Chewin’ the Fat\, she then went on to star in her own show\, The Karen Dunbar Show\, which received various awards and nominations. \nKaren has trod the boards in everything from Glasgow Panto to West End Theatre\, performed Burns\, Shakespeare\, stand up and DJ-ed all in New York and last year DJ-ed at TRNSMT and in Ibiza. \nIn 2014 she opened the Commonwealth Games in front of forty thousand folk and one billion viewers. \nFrom wee pubs to the National Theatre\, Karen has captivated audiences with her mix of comedy\, music and acting talents. \nAge limit 14+ \nTicket price: Standard: £25 / VIP Meet & Greet: £39 \nVIP meet & greet tickets incudes the chance to meet Karen in person\, have your photo taken with her\, and you will also receive a signed official poster. Karen is also happy to sign merch ordered from our website. Please note: meet & greets will take place during the first interval. \nThis tour will be all new stories & jokes. If you have seen Karen recently feel free to come back again!
URL:https://www.argyll-bute.gov.uk/hlcc/event/karen-dunbar/
LOCATION:Helensburgh Civic Centre
ATTACH;FMTTYPE=image/jpeg:https://www.argyll-bute.gov.uk/hlcc/wp-content/uploads/2025/01/67803a41b68ac44cf17ecacc_KAREN-HELENSBURGH.jpg
END:VEVENT
END:VCALENDAR